BEGIN:VCALENDAR
VERSION:2.0
PRODID:-//Eendracht Excelsior
CALSCALE:GREGORIAN
METHOD:PUBLISH
X-WR-CALNAME:Eendracht Excelsior
X-ORIGINAL-URL:https://eendrachtexcelsior.nl/product/vision-in-beeklustpark-almelo/
X-WR-CALDESC:VISION IN BEEKLUSTPARK ALMELO
BEGIN:VEVENT
DTSTART;TZID=Europe/London:20260906T140000
DTEND;TZID=Europe/London:20260906T160000
SUMMARY:VISION IN BEEKLUSTPARK ALMELO
DESCRIPTION:
URL:https://eendrachtexcelsior.nl/product/vision-in-beeklustpark-almelo/
LOCATION:Beeklustpark Almelo
END:VEVENT
END:VCALENDAR
