BEGIN:VCALENDAR
VERSION:2.0
PRODID:-//Eendracht Excelsior
CALSCALE:GREGORIAN
METHOD:PUBLISH
X-WR-CALNAME:Eendracht Excelsior
X-ORIGINAL-URL:https://eendrachtexcelsior.nl/product/slagwerkgroep-clatch-bij-wak2026/
X-WR-CALDESC:SLAGWERKGROEP CLATCH bij WAK2026
BEGIN:VEVENT
DTSTART;TZID=Europe/London:20260509T133000
DTEND;TZID=Europe/London:20260509T143000
SUMMARY:SLAGWERKGROEP CLATCH bij WAK2026
DESCRIPTION:
URL:https://eendrachtexcelsior.nl/product/slagwerkgroep-clatch-bij-wak2026/
LOCATION:Markt Hengelo
END:VEVENT
END:VCALENDAR
