BEGIN:VCALENDAR
VERSION:2.0
PRODID:-//Eendracht Excelsior
CALSCALE:GREGORIAN
METHOD:PUBLISH
X-WR-CALNAME:Eendracht Excelsior
X-ORIGINAL-URL:https://eendrachtexcelsior.nl/product/feel-the-beat-bij-wak2026/
X-WR-CALDESC:FEEL THE BEAT bij WAK2026
BEGIN:VEVENT
DTSTART;TZID=Europe/London:20260509T124500
DTEND;TZID=Europe/London:20260509T133000
SUMMARY:FEEL THE BEAT bij WAK2026
DESCRIPTION:
URL:https://eendrachtexcelsior.nl/product/feel-the-beat-bij-wak2026/
LOCATION:Markt Hengelo
END:VEVENT
END:VCALENDAR
