BEGIN:VCALENDAR
VERSION:2.0
PRODID:-//Eendracht Excelsior
CALSCALE:GREGORIAN
METHOD:PUBLISH
X-WR-CALNAME:Eendracht Excelsior
X-ORIGINAL-URL:https://eendrachtexcelsior.nl/product/jebentwiejeband-bij-cultuurpodium-houtmaat/
X-WR-CALDESC:JeBentWieJeBand bij Cultuurpodium Houtmaat
BEGIN:VEVENT
DTSTART;TZID=Europe/London:20260712T153000
DTEND;TZID=Europe/London:20260712T163000
SUMMARY:JeBentWieJeBand bij Cultuurpodium Houtmaat
DESCRIPTION:
URL:https://eendrachtexcelsior.nl/product/jebentwiejeband-bij-cultuurpodium-houtmaat/
LOCATION:Houtmaatweg 9 7556 PC Hengelo
END:VEVENT
END:VCALENDAR
