BEGIN:VCALENDAR
VERSION:2.0
PRODID:-//Eendracht Excelsior
CALSCALE:GREGORIAN
METHOD:PUBLISH
X-WR-CALNAME:Eendracht Excelsior
X-ORIGINAL-URL:https://eendrachtexcelsior.nl/product/concord-pipe-band-neemt-deel-aan-de-british-pipe-band-championships-in-edinburgh/
X-WR-CALDESC:CONCORD PIPE BAND neemt deel aan de BRITISH PIPE BAND CHAMPIONSHIPS in EDINBURGH!
BEGIN:VEVENT
DTSTART;TZID=Europe/London:20260530T090000
DTEND;TZID=Europe/London:20260530T180000
SUMMARY:CONCORD PIPE BAND neemt deel aan de BRITISH PIPE BAND CHAMPIONSHIPS in EDINBURGH!
DESCRIPTION:
URL:https://eendrachtexcelsior.nl/product/concord-pipe-band-neemt-deel-aan-de-british-pipe-band-championships-in-edinburgh/
LOCATION:Royal Highland Centre Ingliston-Edinburgh Scotland
END:VEVENT
END:VCALENDAR
