BEGIN:VCALENDAR
VERSION:2.0
PRODID:-//Eendracht Excelsior
CALSCALE:GREGORIAN
METHOD:PUBLISH
X-WR-CALNAME:Eendracht Excelsior
X-ORIGINAL-URL:https://eendrachtexcelsior.nl/product/noorkerlanderkapel-in-lotte/
X-WR-CALDESC:NOORKERLÄNDERKAPEL bij Frühschoppen in Lotte
BEGIN:VEVENT
DTSTART;TZID=Europe/London:20260308T110000
DTEND;TZID=Europe/London:20260308T150000
SUMMARY:NOORKERLÄNDERKAPEL bij Frühschoppen in Lotte
DESCRIPTION:
URL:https://eendrachtexcelsior.nl/product/noorkerlanderkapel-in-lotte/
LOCATION:
END:VEVENT
END:VCALENDAR
