BEGIN:VCALENDAR
VERSION:2.0
PRODID:-//Eendracht Excelsior
CALSCALE:GREGORIAN
METHOD:PUBLISH
X-WR-CALNAME:Eendracht Excelsior
X-ORIGINAL-URL:https://eendrachtexcelsior.nl/product/feel-the-beat-bij-esreinmarkt/
X-WR-CALDESC:FEEL THE BEAT BIJ ESREINMARKT
BEGIN:VEVENT
DTSTART;TZID=Europe/London:20260412T130000
DTEND;TZID=Europe/London:20260412T143000
SUMMARY:FEEL THE BEAT BIJ ESREINMARKT
DESCRIPTION:
URL:https://eendrachtexcelsior.nl/product/feel-the-beat-bij-esreinmarkt/
LOCATION:Meijersweg Hengelo
END:VEVENT
END:VCALENDAR
