BEGIN:VCALENDAR
VERSION:2.0
PRODID:-//Eendracht Excelsior
CALSCALE:GREGORIAN
METHOD:PUBLISH
X-WR-CALNAME:Eendracht Excelsior
X-ORIGINAL-URL:https://eendrachtexcelsior.nl/product/open-muziekmiddag-eendracht-excelsior/
X-WR-CALDESC:OPEN MUZIEKMIDDAG EENDRACHT-EXCELSIOR
BEGIN:VEVENT
DTSTART;TZID=Europe/London:20220604T140000
DTEND;TZID=Europe/London:20220604T190000
SUMMARY:OPEN MUZIEKMIDDAG EENDRACHT-EXCELSIOR
DESCRIPTION:
URL:https://eendrachtexcelsior.nl/product/open-muziekmiddag-eendracht-excelsior/
LOCATION:Excelsiorhuis, Geerdinksweg 40 Hengelo
END:VEVENT
END:VCALENDAR
