BEGIN:VCALENDAR
VERSION:2.0
PRODID:-//Eendracht Excelsior
CALSCALE:GREGORIAN
METHOD:PUBLISH
X-WR-CALNAME:Eendracht Excelsior
X-ORIGINAL-URL:https://eendrachtexcelsior.nl/product/bingo-37/
X-WR-CALDESC:BINGO!!
BEGIN:VEVENT
DTSTART;TZID=Europe/London:20220521T200000
DTEND;TZID=Europe/London:20220521T223000
SUMMARY:BINGO!!
DESCRIPTION:
URL:https://eendrachtexcelsior.nl/product/bingo-37/
LOCATION:Steenbokstraat 217, Hengelo
END:VEVENT
END:VCALENDAR
